BEGIN:VCALENDAR
VERSION:2.0
PRODID:-//Accessity - ECPv6.14.2//NONSGML v1.0//EN
CALSCALE:GREGORIAN
METHOD:PUBLISH
X-WR-CALNAME:Accessity
X-ORIGINAL-URL:https://accessity.org
X-WR-CALDESC:Events for Accessity
REFRESH-INTERVAL;VALUE=DURATION:PT1H
X-Robots-Tag:noindex
X-PUBLISHED-TTL:PT1H
BEGIN:VTIMEZONE
TZID:UTC
BEGIN:STANDARD
TZOFFSETFROM:+0000
TZOFFSETTO:+0000
TZNAME:UTC
DTSTART:20210101T000000
END:STANDARD
END:VTIMEZONE
BEGIN:VEVENT
DTSTART;TZID=UTC:20250821T173000
DTEND;TZID=UTC:20250821T200000
DTSTAMP:20260421T185247
CREATED:20250722T205511Z
LAST-MODIFIED:20250722T205511Z
UID:5631-1755797400-1755806400@accessity.org
SUMMARY:Accessity Academy - Fall 2025
DESCRIPTION:Applications are now open for the fall session of the Accessity Academy for Entrepreneurial Success! \nThis free 8-week program offers hands-on training + one-on-one support to help you launch or grow your business 💼✨ \n✅ Applications due: Sunday\, Aug. 3\n✅ Classes start: Thursday\, Aug. 21\n✅ $20 fee refunded when you finish the program \nEligible participants should:\n📍Live in SoCal (Imperial\, Riverside\, San Bernardino\, San Diego\, L.A. or Orange Co.)\n📈 Be ready to launch soon or grow their existing business\n💡 Have a viable idea and industry experience\n💻 Be able to attend weekly online classes
URL:https://accessity.org/event/accessity-academy-fall-2025/
CATEGORIES:Online
ATTACH;FMTTYPE=image/png:https://accessity.org/wp-content/uploads/2025/07/Thicker-email-banner.png
END:VEVENT
BEGIN:VEVENT
DTSTART;TZID=UTC:20250820T100000
DTEND;TZID=UTC:20250820T110000
DTSTAMP:20260421T185247
CREATED:20250722T210053Z
LAST-MODIFIED:20250722T210053Z
UID:5635-1755684000-1755687600@accessity.org
SUMMARY:Get Funded: Simple Steps to Finance Your Business
DESCRIPTION:Financing your business can feel overwhelming\, but it doesn’t have to be. \nIn this FREE webinar\, we’ll walk you through practical steps to help you understand your options and prepare for funding with confidence. \nYou’ll learn: \n\nThe most common funding options available for small businesses in Southern California and how to decide what’s right for you\nWhat lenders look for in a loan application (and how to strengthen yours)\nHow to prepare your business\, even if you’re just starting out\nTips to improve your chances of approval\nHow to find grants and other free resources
URL:https://accessity.org/event/accessitybmo/
CATEGORIES:Online
ATTACH;FMTTYPE=image/png:https://accessity.org/wp-content/uploads/2025/07/BMO-Accessity-Event.png
END:VEVENT
BEGIN:VEVENT
DTSTART;TZID=UTC:20241002T090000
DTEND;TZID=UTC:20241002T110000
DTSTAMP:20260421T185247
CREATED:20240823T215531Z
LAST-MODIFIED:20240823T221143Z
UID:5295-1727859600-1727866800@accessity.org
SUMMARY:Financing For Business Success
DESCRIPTION:Ready to take your business to the next level? Join us for an insightful (and lively!) panel featuring lending experts from Accessity\, California Bank & Trust\, the SBA\, and AmPac CDC. Whether you’re just starting out or looking to grow\, our pros will help you discover the best financing options to power your business dreams. Don’t miss this chance to get the inside scoop and ask the questions that matter most! \nEvent Schedule: \n\n9:00 AM: Networking and Breakfast\n9:30 AM: Panel Discussion\n10:30 AM: Q&A Session\n11:00 AM: Event Concludes
URL:https://accessity.org/event/financing-for-business-success-rc/
LOCATION:9590 Foothill Blvd. Rancho Cucamonga\, CA 91730\, 9590 Foothill Blvd.\, Rancho Cucamonga\, CA\, 91730
CATEGORIES:Online
ATTACH;FMTTYPE=image/png:https://accessity.org/wp-content/uploads/2024/08/Financing-for-Business-Success-1.png
END:VEVENT
BEGIN:VEVENT
DTSTART;TZID=UTC:20240910T100000
DTEND;TZID=UTC:20240910T110000
DTSTAMP:20260421T185247
CREATED:20240823T220721Z
LAST-MODIFIED:20240823T220750Z
UID:5299-1725962400-1725966000@accessity.org
SUMMARY:Access to Capital: Your Guide to Small Business Financing
DESCRIPTION:Are you ready to take your business to the next level? Join us for a lively and practical webinar where we’ll guide you through the essentials of small business financing. \nWhat You’ll Learn:  \n\nSmall Business Financing: Discover the different funding options available to help your business grow.\nLoan Application Process: Get step-by-step guidance on how to successfully apply for a business loan.\nLoan Readiness: Learn how to prepare your business to secure the capital you need.\nBusiness Credit: Understand how to establish and improve your business credit for better financing opportunities.\n\nWhy Attend?  \nThis webinar is perfect for entrepreneurs at any stage\, whether you’re just starting out or looking to expand. You’ll gain the knowledge and confidence to make informed financing decisions and achieve your business goals. \nThis presentation is for educational purposes only. Nothing in this presentation constitutes legal or tax advice. The views and opinions shared by the presenters are not necessarily those of Pacific Premier Bank\, its officers\, employees\, or directors. Pacific Premier Bank makes no representations as to the accuracy\, completeness\, or suitability of any information shared in this presentation. Pacific Premier Bank\, Member FDIC.
URL:https://accessity.org/event/access-to-capital-your-guide-to-small-business-financing/
LOCATION:Online Webinar\, CA\, United States
CATEGORIES:Online
ATTACH;FMTTYPE=image/png:https://accessity.org/wp-content/uploads/2024/08/ACCESS-TO-CAPITAL-1.png
END:VEVENT
BEGIN:VEVENT
DTSTART;TZID=UTC:20231026T100000
DTEND;TZID=UTC:20231026T113000
DTSTAMP:20260421T185247
CREATED:20230925T200851Z
LAST-MODIFIED:20230926T173355Z
UID:4087-1698314400-1698319800@accessity.org
SUMMARY:She Means Business: A Panel Discussion With Women Entrepreneurs
DESCRIPTION:Join us for an engaging webinar featuring a panel of inspirational female entrepreneurs who have started thriving businesses across California. They will share stories about how they started their businesses\, highlight current operations models and how they have navigated different economic times\, discuss challenges they face as well as the pro and cons of business ownership and much more. \nThe event is free and open to everyone. \nModerator: Leah Kirpalani\, Founder and President at Shop Good \nPanelists: \n\nFelecia Fisher-Shamu\, Principal at Vitality Furniture\nJoann Guitarte\, CEO at J Peach\nPatricia Rodriguez\, Founder and Owner\, SF Parking
URL:https://accessity.org/event/4087/
CATEGORIES:Online
ATTACH;FMTTYPE=image/jpeg:https://accessity.org/wp-content/uploads/2023/09/OCT-NWSB-Webinar-Zoom-Banner.jpg
END:VEVENT
BEGIN:VEVENT
DTSTART;TZID=UTC:20231012T100000
DTEND;TZID=UTC:20231012T110000
DTSTAMP:20260421T185247
CREATED:20230925T200202Z
LAST-MODIFIED:20230925T200202Z
UID:4083-1697104800-1697108400@accessity.org
SUMMARY:Surviving and Thriving: Navigating Small Business Lending in Challenging Times
DESCRIPTION:Are you a small business owner seeking financial support to grow and succeed in today’s competitive market? Don’t miss this valuable opportunity to gain insights\, discover resources\, and learn about strategies to secure funding for your business. \nWHY ATTEND? \n\nGain a competitive edge with up-to-date industry insights.\nDiscover Accessity’s innovative programs and small business solutions.\nLearn the secrets to preparing your business for bank financing.\n\nHosted by: \nPacific Premier Bank \nAccessity \nIn partnership with: \nSmall Business Development Center\, San Diego and Imperial Counties
URL:https://accessity.org/event/surviving-and-thriving-navigating-small-business-lending-in-challenging-times/
CATEGORIES:Online
ATTACH;FMTTYPE=image/png:https://accessity.org/wp-content/uploads/2023/09/Surviving-and-Thriving-Banner-1.png
END:VEVENT
BEGIN:VEVENT
DTSTART;TZID=UTC:20230914T100000
DTEND;TZID=UTC:20230914T110000
DTSTAMP:20260421T185247
CREATED:20230804T211553Z
LAST-MODIFIED:20230804T211553Z
UID:4036-1694685600-1694689200@accessity.org
SUMMARY:Unlocking Growth: Small Business Financing Webinar
DESCRIPTION:Are you a small business owner seeking financial opportunities to propel your growth? Look no further! \nJoin Accessity and City National Bank for an exclusive Zoom webinar to discover the secrets to achieving your business dreams through microlending and SBA programs.
URL:https://accessity.org/event/unlocking-growth-small-business-financing-webinar/
CATEGORIES:Online
END:VEVENT
BEGIN:VEVENT
DTSTART;TZID=UTC:20230427T090000
DTEND;TZID=UTC:20230427T110000
DTSTAMP:20260421T185247
CREATED:20230407T145016Z
LAST-MODIFIED:20230407T145349Z
UID:3879-1682586000-1682593200@accessity.org
SUMMARY:HR: Harassment Prevention Training Webinar
DESCRIPTION:Did you know that if you are an employer in California with five or more employees you are required to provide harassment prevention training to\nyour staff every two years? \nThe San Diego Employers Association (SDEA)\, and Accessity are offering FREE training opportunities for you and your employees to meet your harassment prevention training requirement. \nTO BE ELIGIBLE\, YOU MUST EMPLOY 5 OR MORE EMPLOYEES IN CALIFORNIA.
URL:https://accessity.org/event/hr-harassment-prevention-training/
CATEGORIES:Online
ATTACH;FMTTYPE=image/jpeg:https://accessity.org/wp-content/uploads/2023/04/ddphoto-51-scaled.jpg
END:VEVENT
BEGIN:VEVENT
DTSTART;TZID=UTC:20221208T100000
DTEND;TZID=UTC:20221208T110000
DTSTAMP:20260421T185247
CREATED:20220426T194854Z
LAST-MODIFIED:20230104T145832Z
UID:2346-1670493600-1670497200@accessity.org
SUMMARY:Understanding Supplier Diversity and Small Business Financing Webinar
DESCRIPTION:You’re Invited: Understanding Supplier Diversity and Small Business Financing webinar on Dec. 8 \nAre you a small business owner interested in doing business with large corporations? Attend this free webinar to learn what it means to become certified as a diverse supplier. You’ll hear about how supplier diversity benefits your small business and local community. \nOnce you have your contract\, how do you get funded? Hear about California Bank & Trust’s Diversity Banking Program and Accessity’s Loan Program. You will learn what funding options are available to you as a diverse-owned business and how to prepare to apply for small business financing. \n \n 
URL:https://accessity.org/event/supplier-diversity/
CATEGORIES:Online
ATTACH;FMTTYPE=image/png:https://accessity.org/wp-content/uploads/2022/04/Zoom-banner-1.png
END:VEVENT
BEGIN:VEVENT
DTSTART;TZID=UTC:20221201T180000
DTEND;TZID=UTC:20221201T190000
DTSTAMP:20260421T185247
CREATED:20221117T230733Z
LAST-MODIFIED:20230104T145849Z
UID:3446-1669917600-1669921200@accessity.org
SUMMARY:¿Cómo tener armonía en tu casa y tu negocio?
DESCRIPTION:This event is sponsored by the Eva Longoria Foundation and will give attendees information about how to have a healthy work-life balance to lead a more harmonious life. Here are the details: \n\nThursday\, December 1\n6 p.m.\nSpanish\nLink to register here: https://bit.ly/armoniacasaynegocio\nPresenter: Imelda Barragan – Life Coach https://www.facebook.com/imelda.barragangarcia
URL:https://accessity.org/event/como-tener-armonia-en-tu-casa-y-tu-negocio/
CATEGORIES:Online
ATTACH;FMTTYPE=image/png:https://accessity.org/wp-content/uploads/2022/11/para-Zoom.png
END:VEVENT
BEGIN:VEVENT
DTSTART;TZID=UTC:20220901T080000
DTEND;TZID=UTC:20220901T170000
DTSTAMP:20260421T185247
CREATED:20220426T194641Z
LAST-MODIFIED:20220801T142012Z
UID:2344-1662019200-1662051600@accessity.org
SUMMARY:Webinar with MyPoint Credit Union
DESCRIPTION:Check back for details – tentative September date.  Email Suzanne Carlson (scarlson@accessity.org) for questions.
URL:https://accessity.org/event/webinar-with-mypoint-credit-union/
CATEGORIES:Online
END:VEVENT
BEGIN:VEVENT
DTSTART;TZID=UTC:20220823T173000
DTEND;TZID=UTC:20221026T200000
DTSTAMP:20260421T185247
CREATED:20220426T194315Z
LAST-MODIFIED:20220708T043519Z
UID:2342-1661275800-1666814400@accessity.org
SUMMARY:Academia de Accessity
DESCRIPTION:Presentada por Accessity y la Fundación Eva Longoria\, la Academia de Accessity para el Éxito Empresarial (AAEE) es un programa de 10 semanas de entrenamiento práctico acompañado de asesoramiento empresarial personalizado para capacitar a las personas como usted a convertirse en empresarias y crear su propio empleo. Además de recibir acceso a múltiples recursos empresariales y expertos para ayudarle a tener un negocio próspero\, las participantes que completen la serie\, también serán elegibles para un préstamo empresarial de hasta $5\,000 dólares para cubrir los gastos de inicio. \nLas sesiones de entrenamiento incluirán:\n• Cómo empezar su negocio\n• Cómo manejar sus finanzas personales y de negocios\n• Cómo destacarse entre la competencia\n• Cómo promover su negocio\n• Cómo determinar su precio
URL:https://accessity.org/event/academia-de-accessity-2/
CATEGORIES:Online
ATTACH;FMTTYPE=image/png:https://accessity.org/wp-content/uploads/2022/04/Academia-SM-Post.png
END:VEVENT
BEGIN:VEVENT
DTSTART;TZID=UTC:20220721T110000
DTEND;TZID=UTC:20220721T120000
DTSTAMP:20260421T185247
CREATED:20220622T174231Z
LAST-MODIFIED:20220708T042729Z
UID:2631-1658401200-1658404800@accessity.org
SUMMARY:Navigating Mental Health & Entrepreneurship
DESCRIPTION:Research has shown that a disproportionate number of entrepreneurs struggle with mental health challenges. Accessity is partnering with Accessity-funded business Saffron & Sage to present this free webinar. \nIn this webinar\, you’ll:\n• Hear first-hand about common challenges faced by entrepreneurs – you are not alone!\n• Be able to recognize signs of stress and anxiety\n• Learn how to stay positive in uncertain times and protect your mental health\n• Take away self-care techniques to cope with being overwhelmed\n• Learn about resources available to entrepreneurs and where to go for support \nSAFFRON & SAGE SPEAKERS:\nCRISTIN SMITH\,\nSPIRITUAL DIRECTOR\, FOUNDER+CEO \nDR. HILDA GONZALEZ\, CLINIC DIRECTOR\nHOLISTIC HEALTHCARE PROVIDER \nVANESSA MERGULHÃO\,\nLEAD ACUPUNCTURIST\, HERBALIST & HYPNOTHERAPIST \nRegister here: https://us06web.zoom.us/webinar/register/WN_BRetiZdySvuHGJbOG2SGqQ
URL:https://accessity.org/event/navigating-mental-health-entrepreneurship/
LOCATION:Online Webinar\, CA\, United States
CATEGORIES:Online
ATTACH;FMTTYPE=image/png:https://accessity.org/wp-content/uploads/2022/06/Mental-Health-Webinar.png
END:VEVENT
BEGIN:VEVENT
DTSTART;TZID=UTC:20220714T160000
DTEND;TZID=UTC:20220714T170000
DTSTAMP:20260421T185247
CREATED:20220602T204924Z
LAST-MODIFIED:20220708T043009Z
UID:2605-1657814400-1657818000@accessity.org
SUMMARY:Get Approved!
DESCRIPTION:What does it take to get the loan you need for your business? \nThis webinar will empower you with information to: \n\nIdentify your strengths as a borrower and what areas you would need to improve\nLearn what documents your lender will require from you and why?\nKnow what kind of lender you need to approach based on your type of business\n\nJoin us at this virtual event on Thursday\, July 14 at 4 pm PDT. \nRegister for free: https://bit.ly/getapprovedjuly14
URL:https://accessity.org/event/get-approved/
LOCATION:Online Webinar\, CA\, United States
CATEGORIES:Online
ATTACH;FMTTYPE=image/png:https://accessity.org/wp-content/uploads/2022/06/GET-APPROVED-IG.png
END:VEVENT
BEGIN:VEVENT
DTSTART;TZID=UTC:20220512T100000
DTEND;TZID=UTC:20220512T110000
DTSTAMP:20260421T185247
CREATED:20220426T193238Z
LAST-MODIFIED:20220426T193340Z
UID:2335-1652349600-1652353200@accessity.org
SUMMARY:Show Me The Money! How to Fund Your Small Business
DESCRIPTION:Join City National Bank and Accessity for a FREE webinar that will give an overview of funding options available to small businesses in Southern California. \n \nRegister here: Webinar Registration – Zoom
URL:https://accessity.org/event/show-me-the-money-how-to-fund-your-small-business/
CATEGORIES:Online
END:VEVENT
BEGIN:VEVENT
DTSTART;TZID=UTC:20210601T090000
DTEND;TZID=UTC:20210601T090000
DTSTAMP:20260421T185247
CREATED:20210318T062046Z
LAST-MODIFIED:20210322T062711Z
UID:1131-1622538000-1622538000@accessity.org
SUMMARY:Accessity Academy
DESCRIPTION:10-week online training class \nHave you ever dreamed of having your own business but don’t know how to start? Accessity invites you to apply for the Accessity Academy\, a 10-week series of practical\, hands-on training accompanied by one-on-one business counseling to empower individuals like you. Click here to join the interest list to be alerted when the application opens in May. Learn more about the course here.
URL:https://accessity.org/event/accessity-academy/
LOCATION:Online Webinar\, CA\, United States
CATEGORIES:Online
ATTACH;FMTTYPE=image/jpeg:https://accessity.org/wp-content/uploads/2021/03/DSC_1855-scaled.jpg
END:VEVENT
END:VCALENDAR